View In:
ArcGIS JavaScript
ArcGIS Online map viewer
Google Earth
ArcMap
View Footprint In:
ArcGIS Online map viewer
Service Description:
Name: Sammamish/SAM_dem
Description: Sammamish/SAM_dem
Single Fused Map Cache: false
Extent:
XMin: 1329148.2695254474
YMin: 203292.5412552011
XMax: 1362354.9539644348
YMax: 243186.45533441898
Spatial Reference: 102748
(2285)
Initial Extent:
XMin: 1329148.2695254474
YMin: 203292.5412552011
XMax: 1362354.9539644348
YMax: 243186.45533441898
Spatial Reference: 102748
(2285)
Full Extent:
XMin: 1329148.2695254474
YMin: 203292.5412552011
XMax: 1362354.9539644348
YMax: 243186.45533441898
Spatial Reference: 102748
(2285)
Pixel Size X: 32.780537452109975
Pixel Size Y: 32.78053745211001
Band Count: 1
Pixel Type: F32
RasterFunction Infos: N/A
Mensuration Capabilities: Basic
Has Histograms: true
Has Colormap: false
Has Multi Dimensions : false
Rendering Rule:
Min Scale: 0
Max Scale: 0
Copyright Text:
Service Data Type: esriImageServiceDataTypeGeneric
Min Values: 8.9995698928833
Max Values: 188.77658081054688
Mean Values: 120.19710209994928
Standard Deviation Values: 33.64351529677126
Object ID Field:
Fields:
None
Default Mosaic Method: Center
Allowed Mosaic Methods:
SortField:
SortValue: null
Mosaic Operator: First
Default Compression Quality: 75
Default Resampling Method: Bilinear
Max Record Count: null
Max Image Height: 4100
Max Image Width: 15000
Max Download Image Count: null
Max Mosaic Image Count: null
Allow Raster Function: true
Allow Compute TiePoints: false
Supports Statistics: false
Supports Advanced Queries: false
Use StandardizedQueries: true
Raster Type Infos:
Name: Raster Dataset
Description: Supports all ArcGIS Raster Datasets
Help:
Has Raster Attribute Table: false
Edit Fields Info: null
Ownership Based AccessControl For Rasters: null
Child Resources:
Info
Histograms
Key Properties
Legend
MultiDimensionalInfo
rasterFunctionInfos
Supported Operations:
Export Image
Identify
Measure
Compute Histograms
Get Samples
Compute Class Statistics